BEGIN:VCALENDAR
VERSION:2.0
PRODID:-//ExpressionEngine Easy iCalendar plugin//NONSGML v2.0.0//EN
X-WR-TIMEZONE:America/New_York
X-WR-CALNAME:Upcoming Auctions
BEGIN:VEVENT
UID:158923
DTSTAMP:20260329T100000
DTSTART:20260329T100000
DTEND:20260401T190000
SUMMARY:03-29-26 Online HD Tools and Outdoor
LOCATION:7111 Lincoln Highway\, Bedford\, PA 15522\, US
DESCRIPTION:03-29-26 - Online Only HD TOOLS AND OUTDOOR  Location 7111
  Lincoln Highway Bedford\, PA 15522 Preview Dates: Saturday 
 March 28th\, 2026\, 9:00am - 3:00pm Auction Start Date:  Sund
 ay March 29th\, 2026 @ 10:00am Auction Close Date:  Wednesd
 ay April 1st\, 2026\, 7:00pm Pickup Times: Thursday - Friday A
 pril 2nd - 3rd\, 2026\, 9am till 5pm & Saturday April 4th\, 20
 26\, 9:00am till 3:00pm *Credit Card will be automatically ch
 arged 3 days after auction closing. This gives you an optio
 n to pay using cash during scheduled pick-up times
URL:https://www.bidknisely.com/auctions/detail/bw158923
SEQUENCE:1
END:VEVENT
END:VCALENDAR