BEGIN:VCALENDAR
VERSION:2.0
PRODID:-//ExpressionEngine Easy iCalendar plugin//NONSGML v2.0.0//EN
X-WR-TIMEZONE:America/New_York
X-WR-CALNAME:Upcoming Auctions
BEGIN:VEVENT
UID:157716
DTSTAMP:20260315T100000
DTSTART:20260315T100000
DTEND:20260318T190000
SUMMARY:03-15-26 Online Only Auction OUTDOOR & HOME DECOR
LOCATION:7111 Lincoln Highway\, Bedford\, PA 15522\, US
DESCRIPTION:03-15-26 - Online Only Auction OUTDOOR & HOME DECOR  Locati
 on 7111 Lincoln Highway Bedford\, PA 15522 Preview Dates: Sa
 turday MARCH 14TH\, 2026\, 9:00am - 3:00pm Auction Start Date:
   SUNDAY March 15th\, 2026 @ 10:00am Auction Close Date: 
  Wednesday March 18th\, 2026\, 7:00pm Pickup Times: Thursday -
  Friday March 19th - 20th\, 2026\, 9am till 5pm & Saturday Mac
 h 21st\, 2026\, 9:00am till 3:00pm *Credit Card will be automa
 tically charged 3 days after auction closing. This gives yo
 u an option to pay using cash during scheduled pick-up times
URL:https://www.bidknisely.com/auctions/detail/bw157716
SEQUENCE:1
END:VEVENT
END:VCALENDAR