BEGIN:VCALENDAR
VERSION:2.0
PRODID:-//ExpressionEngine Easy iCalendar plugin//NONSGML v2.0.0//EN
X-WR-TIMEZONE:America/New_York
X-WR-CALNAME:Upcoming Auctions
BEGIN:VEVENT
UID:153727
DTSTAMP:20260111T100000
DTSTART:20260111T100000
DTEND:20260114T190000
SUMMARY:HD Home Improvement LIQUIDATION SALE
LOCATION:7111 Lincoln Highway\, Bedford\, PA 15522\, US
DESCRIPTION:HD Home Improvement Online Only LIQUIDATION SALE:Â Location 
 7111 Lincoln Highway Bedford\, PA 15522 Preview Date:Â  Satur
 day January 10th\, 2026\, 9:00am - 3:00pm Auction Start Date:Â
   Sunday JanuaryÂ 11th\, 2026Â @ 10:00am Auction Close Date:Â
   Wednesday JanuaryÂ 14th\, 2026\, 7:00pm Pickup Times: Thursd
 ay - Friday JanuaryÂ 15th - 16th\, 2026\, 9am till 5pm & Satur
 day January 17th\, 2026\, 9:00am till 3:00pm *Credit Card will
  be automatically charged 3 days after auction closing.Â Thi
 s gives you an option to pay using cash during scheduled pic
 k-up times
URL:https://www.bidknisely.com/auctions/detail/bw153727
SEQUENCE:1
END:VEVENT
END:VCALENDAR